BEGIN:VCALENDAR
VERSION:2.0
PRODID:-//wp-events-plugin.com//7.2.3.1//EN
TZID:Europe/Berlin
X-WR-TIMEZONE:Europe/Berlin
BEGIN:VEVENT
UID:67@wildnisschule-donnersberg.de
DTSTART;TZID=Europe/Berlin:20260911T150000
DTEND;TZID=Europe/Berlin:20260913T140000
DTSTAMP:20251210T225643Z
URL:https://wildnisschule-donnersberg.de/veranstaltungen/messer-schmieden-
 im-sommer/
SUMMARY:Messer-Schmieden im Früh-Herbst
DESCRIPTION:An diesem Wochenende schmiedest Du Deine eigene Messerklinge un
 ter der Anleitung eines erfahrenen Messerbauers. Geschmiedet wird im Waldc
 amp unter freiem Himmel. 
ATTACH;FMTTYPE=image/jpeg:https://wildnisschule-donnersberg.de/wp-content/
 uploads/2021/12/096aab08-812d-4ed2-a066-706dfdfabc81.jpg
CATEGORIES:Erwachsene,Fertigkeiten,Gruppenangebote,Naturhandwek,Seminare
 für Erwachsene
LOCATION:Waldcamp Messersbacherhof\, Messersbacherhof 3\, Messersbacherhof 
 / Gundersweiler\, 67724\, Deutschland
GEO:49.584772;7.760341
X-APPLE-STRUCTURED-LOCATION;VALUE=URI;X-ADDRESS=Messersbacherhof 3\, Messer
 sbacherhof / Gundersweiler\, 67724\, Deutschland;X-APPLE-RADIUS=100;X-TITL
 E=Waldcamp Messersbacherhof:geo:49.584772,7.760341
END:VEVENT
BEGIN:VTIMEZONE
TZID:Europe/Berlin
X-LIC-LOCATION:Europe/Berlin
BEGIN:DAYLIGHT
DTSTART:20260329T030000
TZOFFSETFROM:+0100
TZOFFSETTO:+0200
TZNAME:CEST
END:DAYLIGHT
END:VTIMEZONE
END:VCALENDAR